BEGIN:VCALENDAR
VERSION:2.0
PRODID:https://github.com/derhansen/sf_event_mgt
METHOD:PUBLISH
BEGIN:VEVENT
UID:374-6850@www.hs-emden-leer.de
CLASS: PUBLIC
SUMMARY:Zeit gut nutzen
DESCRIPTION:Lernen Sie verschiedene Methoden kennen, um Ihren Arbeitstag zu
  strukturieren, ausreichend Pausen zu machen, Ihre Zeit gut einzuteilen und
  klare Prioritäten zu setzen – damit Sie Ihre Zeit gut nutzen und Zeitdruck
  reduzieren.\n\nAnmeldungen via Mail ab sofort möglich. 
LOCATION:Campus Emden
DTSTAMP:20220318T084746Z
DTSTART:20220427T140000Z
DTEND:20220427T160000Z
END:VEVENT
END:VCALENDAR
