BEGIN:VCALENDAR
VERSION:2.0
PRODID:https://github.com/derhansen/sf_event_mgt
METHOD:PUBLISH
BEGIN:VEVENT
UID:109-5419@www.hs-emden-leer.de
CLASS: PUBLIC
SUMMARY:Wo will ich hin? Berufsziele entdecken und Stärken erkennen- Teil 2
DESCRIPTION:Inhalte des Online-Workshops:  - Die aktuelle Ausgangssituation
  reflektieren - Eigene Fähigkeiten und Kompetenzen differenzierter wahrnehm
 en - Wünsche und Ziele bewusst machen - Entwicklungsfelder identifizieren u
 nd angehen - Motivation finden und Hindernisse überwinden\n\nBitte beachten
 ! Der Workshop besteht aus zwei Terminen, Teil 1 findet am 11.05.2021 von 1
 2 bis 18:00 Uhr statt.\n\nAnmeldung unter folgendem Link mit den Hochschull
 ogin-Daten: https://hs-emden-leer.jobteaser.com/de/events/95601-wo-will-ich
 -hin-berufsziele-entdecken-und-staerken-erkennen
LOCATION:Online
DTSTAMP:20210204T141402Z
DTSTART:20210518T100000Z
DTEND:20210518T150000Z
END:VEVENT
END:VCALENDAR
