BEGIN:VCALENDAR
VERSION:2.0
PRODID:https://github.com/derhansen/sf_event_mgt
METHOD:PUBLISH
BEGIN:VEVENT
UID:264-5419@www.hs-emden-leer.de
CLASS: PUBLIC
SUMMARY:Wo will ich hin? Berufsziele entdecken und Stärken erkennen!
DESCRIPTION:Sie erhalten im Workshop die Möglichkeit, ihre persönlichen ber
 uflichen Ziele zu reflektieren und herauszufinden, was ihnen für den Berufs
 einstieg wichtig ist. \n\nDurch verschiedene Herangehensweisen werden Motiv
 e beleuchtet, Stärken identifiziert und Handlungsfelder aufgezeigt, die dab
 ei helfen können, nach dem Seminar konkrete nächste Schritte einzuleiten.\n
 \n Inhalte des Online-Workshops:\n\n 	Die aktuelle Ausgangssituation reflek
 tieren 	Eigene Fähigkeiten und Kompetenzen differenzierter wahrnehmen 	Wüns
 che und Ziele bewusst machen 	Entwicklungsfelder identifizieren und angehen
  	Motivation finden und Hindernisse überwinden \n\nBitte beachten! Der Work
 shop besteht aus zwei Terminen, eine Anmeldung gilt für beide Termine.
LOCATION:Online
DTSTAMP:20210804T074046Z
DTSTART:20211009T080000Z
DTEND:20211009T110000Z
END:VEVENT
END:VCALENDAR
