BEGIN:VCALENDAR
VERSION:2.0
PRODID:https://github.com/derhansen/sf_event_mgt
METHOD:PUBLISH
BEGIN:VEVENT
UID:202-5412@www.hs-emden-leer.de
CLASS: PUBLIC
SUMMARY:SAG-Fachtagung zur WINDIS Studie: Normalität und Behinderungen über
  die Lebensspanne
DESCRIPTION:So geht es, auch auf den ländlichen Raum Ostfrieslands bezogen,
  um Fragen, welche Deutungsmuster im Umgang mit Behinderung auftreten sowie
  welche Normen  und Normalitätsvorstellungen den Umgang mit Behinderung lei
 ten. Wie kommt es dabei zu Prozessen der Besonderung von Behinderung und we
 lche Rolle spielen hierbei ab- und zugeschriebene Fähigkeiten?\n\nZu diesen
  Fragen und weiteren Ergebnisse der Studie geben wir Euch/ Ihnen Einblick s
 owie Gelegenheit sie mit uns zu diskutieren. Die Veranstaltung richtet sich
  außer an Fachkräfte und Kolleg*innen im Bereich Soziale Arbeit und Gesundh
 eit, an interessierte Studierende und Hochschulangehörige sowie an die an d
 iesem Thema interessierte Öffentlichkeit. Daher freuen wir uns, wenn Sie un
 d Ihr unserer Einladung folgt und Studierenden eine Teilnahme ermöglicht!\n
 \nDie Studierenden erhalten ebenso heute eine gesonderte Einladung.\n\nWenn
  Sie teilnehmen möchten, melden Sie sich bitte bis zum 21. Mai 2021 unter c
 larissa.schallenberger@hochschule-emden-leer.de an. Die Teilnahme ist koste
 nfrei.\n\nFür Rückfragen stehen Ihnen und Euch die Projektleitung Frau Prof
 .in Dr.in Carla Wesselmann (carla.wesselmann@hochschule-emden-leer.de) sowi
 e Frau Clarissa Schallenberger (MA) (clarissa.schallenberger@hochschule-emd
 en-leer.de) zur Verfügung.\n\nIn der KW 18 werden wir Sie und Euch zu Anmel
 dedetails informieren.
DTSTAMP:20210507T100911Z
DTSTART:20210602T070000Z
DTEND:20210602T110000Z
END:VEVENT
END:VCALENDAR
