BEGIN:VCALENDAR
VERSION:2.0
PRODID:https://github.com/derhansen/sf_event_mgt
METHOD:PUBLISH
BEGIN:VEVENT
UID:340-5417@www.hs-emden-leer.de
CLASS: PUBLIC
SUMMARY:Webinarreihe "EU Green Deal" - QuartaVista: Erfassung von ESG Sachv
 erhalten in der Buchhaltung
DESCRIPTION:Durch den „EU Green Deal“ hat eine zweite Phase der Nachhaltigk
 eit begonnen: Nach dem Beschluss der europäischen Kommission soll Europa bi
 s zum Jahr 2050 der erste klimaneutrale Kontinent werden. Wie dies gelingen
  kann und in welchem Maße die Wirtschaft umstrukturiert werden muss, wird i
 n dieser kostenlosen Veranstaltungsreihe thematisiert.\n\nUnter dem Titel „
 Nachhaltigkeit – EU Green Deal: Welche Konsequenzen ergeben sich für Wirtsc
 haft und Region?“ werden unterschiedliche Referenten ihre Online-Beiträge a
 n verschiedenen Terminen in der Zeit von 09:00 bis 10:30 Uhr präsentieren. 
 Angesprochen sind sowohl Unternehmensvertreter:innen, Studierende als auch 
 die interessierte Öffentlichkeit.\n\nHier gehts zur Online-Anmeldung: Anmel
 dung Webinarreihe EU GreenDeal - Hochschule Emden/Leer (hs-emden-leer.de)\n
 \nWeitere Infos zur Veranstaltungsreihe: Webinarreihe Nachhaltigkeit EU Gre
 en Deal - Greentech (greentech-ostfriesland.de)
LOCATION:Online
DTSTAMP:20220308T155004Z
DTSTART:20220426T070000Z
DTEND:20220426T083000Z
END:VEVENT
END:VCALENDAR
