BEGIN:VCALENDAR
VERSION:2.0
PRODID:https://github.com/derhansen/sf_event_mgt
METHOD:PUBLISH
BEGIN:VEVENT
UID:425-5417@www.hs-emden-leer.de
CLASS: PUBLIC
SUMMARY:Vortragsreihe "Anders Wirtschaften" - Anders Wirtschaften mit Fairt
 rade
DESCRIPTION:Anders Wirtschaften mit Fairtrade\n\nReferentin Freya Willicks 
 von Trans Fair wird vorstellen, wie das Fairtrade-Handelssystem genau funkt
 ioniert und wie es dazu beitragen kann globale gerechte Handelsstukturen en
 twickeln und auszubauen, Link: https://bbb.hs-emden-leer.de/b/ger-ssr-wfk-7
 8v\n\n\n\nDie Veranstaltungen können im Rahmen des Professionalisierungspro
 gramms „Interdisziplinäres Nachhaltigkeitszertifikat“ besucht werden in Kom
 ponente 4 – Umsetzungsbeispiele von Nachhaltigkeit.
DTSTAMP:20220506T110635Z
DTSTART:20220519T150000Z
DTEND:20220519T163000Z
END:VEVENT
END:VCALENDAR
