BEGIN:VCALENDAR
VERSION:2.0
PRODID:https://github.com/derhansen/sf_event_mgt
METHOD:PUBLISH
BEGIN:VEVENT
UID:300-5421@www.hs-emden-leer.de
CLASS: PUBLIC
SUMMARY:Von Gefahrenräumen und Angsträumen. Ambivalente Diskurse in der Prä
 vention sexualisierter Diskriminierung und Gewalt an Hochschulen
DESCRIPTION:Im Rahmen der Diskussionen, was Hochschulen gegen sexuelle Belä
 stigung und Gewalt und gegen sexualisierte Diskriminierung tun können, werd
 en häufig auch Maßnahmen für mehr Sicherheit auf dem Campus angeführt. So z
 ählen beispielsweise Campusbegehungen zur Identifizierung sogenannter Angst
 räume und möglicher Gefahrenquellen oder auch Hochschulbefragungen zu Unsic
 herheitsgefühlen zum durchaus häufigen Repertoire präventiver Maßnahmen im 
 Handlungsfeld sexualisierter Diskriminierung und Gewalt. Im Vortrag wird zu
 nächst der Stellenwert von Sicherheitsdiskursen sowie baulichen und räumlic
 hen Maßnahmen in der Prävention gegen sexualisierte Diskriminierung und Gew
 alt an Hochschulen thematisiert, bevor das Konzept der Angsträume näher bel
 euchtet wird.\n\nReferentin: Lisa Mense, Sozialwissenschaftlerin und stellv
 ertretende Leitung der Koordinations- und Forschungsstelle des Netzwerks Fr
 auen- und Geschlechterforschung NRW, Universität Duisburg-Essen.\n\nAnmeldu
 ng: gleichstellung@hs-emden-leer.de 
LOCATION:Online
DTSTAMP:20211115T135103Z
DTSTART:20211202T173000Z
DTEND:20211202T190000Z
END:VEVENT
END:VCALENDAR
