BEGIN:VCALENDAR
VERSION:2.0
PRODID:https://github.com/derhansen/sf_event_mgt
METHOD:PUBLISH
BEGIN:VEVENT
UID:256-5421@www.hs-emden-leer.de
CLASS: PUBLIC
SUMMARY:Unsere Seefahrt, die wird lustig!
DESCRIPTION:Sommerferienprogramm für Vorschulkinder und schulpflichtige Kin
 der bis 12 Jahre\n\n Melde dich zur besseren Planung bis zu 3 Tage vor der 
 Veranstaltung beim Familienservice an. Achtung: Die Plätze sind aufgrund de
 r derzeitigen Situation begrenzt. Die Altersangabe ist nur eine grobe Angab
 e, nach Absprache dürfen auch gerne jüngere bzw. ältere Kinder dabei sein. 
 Alle Angebote sind kostenfrei und finden vorwiegend im Außenbereich vom Cam
 pus Emden statt.\n\n Noch Fragen? Telefon 04921-807 1144\n\nfamilienservice
 @hs-emden-leer.de\n\n\n\nWeitere Infos findet ihr im Flyer. \n\n\n\n
LOCATION:Campus Emden
DTSTAMP:20210722T114603Z
DTSTART:20210810T070000Z
DTEND:20210810T100000Z
END:VEVENT
END:VCALENDAR
