BEGIN:VCALENDAR
VERSION:2.0
PRODID:https://github.com/derhansen/sf_event_mgt
METHOD:PUBLISH
BEGIN:VEVENT
UID:360-5419@www.hs-emden-leer.de
CLASS: PUBLIC
SUMMARY:Tipps und Tricks für die ersten Gehaltsverhandlungen
DESCRIPTION:Du bist in der Bewerbungsphase, befürchtest Dich durch Deine Ge
 haltsangabe unter Wert zu verkaufen oder Dich gar aus dem Bewerbungsprozess
  zu schießen? Wir geben Dir in diesem Workshop Tipps, wie Du mit dem Thema 
 Entlohnung in der Bewerbungsphase umgehen solltest.
LOCATION:Online
DTSTAMP:20220303T110314Z
DTSTART:20220412T140000Z
DTEND:20220412T153000Z
END:VEVENT
END:VCALENDAR
