BEGIN:VCALENDAR
VERSION:2.0
PRODID:https://github.com/derhansen/sf_event_mgt
METHOD:PUBLISH
BEGIN:VEVENT
UID:208-5419@www.hs-emden-leer.de
CLASS: PUBLIC
SUMMARY:The Elevator Pitch Workshop
DESCRIPTION:Sie werden bei einem Vorstellungsgespräch gebeten, sich kurz vo
 rzustellen? Und Sie wissen nicht genau, was Sie sagen sollen? Wo fangen Sie
  mit ihrer Geschichte an? Und wie können Sie einen bleibenden Eindruck hint
 erlassen? Der Elevator Pitch geht auf diese Fragen ein. In diesem digitalen
  Workshop lernen Sie anhand von praktischen Tools, wie Sie Ihrem Gesprächsp
 artner in zwei Minuten klar machen, wer Sie sind und was er für Sie tun kan
 n. Wir werden unter anderem die Kernquadranten besprechen. Worin sind Sie b
 esonders gut? Und was sind Ihre Stolpersteine?\n\nDurchgeführt wird der Wor
 kshop von der Hanzehogeschool Groningen.\n\nDie Referent*innen sind Charlot
 te Hidding und Henk Wubs. \n\nWorkshopsprachen: Deutsch und Niederländisch 
 Taal van de workshop: Duits en Nederlands\n\n\n\nDer Workshop findet im Rah
 men INTERREG Projekt "Grenzenlo(o)s Talent!" statt.  
LOCATION:Online
DTSTAMP:20210519T085229Z
DTSTART:20210601T113000Z
DTEND:20210601T130000Z
END:VEVENT
END:VCALENDAR
