BEGIN:VCALENDAR
VERSION:2.0
PRODID:https://github.com/derhansen/sf_event_mgt
METHOD:PUBLISH
BEGIN:VEVENT
UID:530-6930@www.hs-emden-leer.de
CLASS: PUBLIC
SUMMARY:Teacher of the Year 2022 & Antrittsvorlesungen
DESCRIPTION:Die Hochschule Emden/Leer verleiht die Auszeichnung „Teacher of
  the Year 2022“. Damit sollen besonderes Engagement, didaktische Kreativitä
 t und besondere Leistungen in der Lehre gewürdigt werden. Mit der Verleihun
 g verbunden werden die Antrittsvorlesungen zwei neuberufener Professor*inne
 n. Seien Sie herzlich willkommen!
DTSTAMP:20221124T071311Z
DTSTART:20230105T150000Z
DTEND:20230105T170000Z
END:VEVENT
END:VCALENDAR
