BEGIN:VCALENDAR
VERSION:2.0
PRODID:https://github.com/derhansen/sf_event_mgt
METHOD:PUBLISH
BEGIN:VEVENT
UID:210-5568@www.hs-emden-leer.de
CLASS: PUBLIC
SUMMARY:Tagung: Gesundheitsfördernde Hochschulen gendern
DESCRIPTION:Wollen Sie Ihre Hochschule gendersensibel und gesundheitsförder
 lich gestalten? Interessieren Sie sich für Ansatzpunkte, Strukturen und Pro
 zesse, mit denen Sie anfangen können? Wollen Sie Argumente für die Umsetzun
 g hören?\n\nDann besuchen Sie diese Tagung, die alle Statusgruppen an Hochs
 chulen inhaltlich berücksichtigt. Neben einer theoretischen Einführung und 
 praktischen Umsetzungshinweisen zur Gendersensibilität werden auf der Tagun
 g auch konkrete Aspekte wie eine gendergerechte Gefährdungsanalyse oder ein
 e geschlechtergerechte Hochschulkultur Thema sein. Die Teilnehmenden werden
  in der Online-Veranstaltung interaktiv eingebunden.\n\nZielgruppen der Fac
 htagung sind alle, die Gesundheitsförderung (BGM, SGM) an Hochschulen umset
 zen, die Gleichstellungsbeauftragten, die studentischen Gremien sowie Inter
 essierte. Auch die Abteilungen für Diversity und familienfreundliche Hochsc
 hule sind herzlich eingeladen.\n\nDie Fachtagung wird vom bundesweiten Arbe
 itskreis Gesundheitsfördernde Hochschulen in Kooperation mit der Hochschule
  Emden/Leer durchgeführt und von der Techniker Krankenkasse gefördert.\n\nA
 nmeldungen werden nur schriftlich über das Anmeldeformular unter www.gesund
 heit-nds.de entgegengenommen.\n\n\n\n
LOCATION:Online
DTSTAMP:20210531T180645Z
DTSTART:20210607T112000Z
DTEND:20210608T110000Z
END:VEVENT
END:VCALENDAR
