BEGIN:VCALENDAR
VERSION:2.0
PRODID:https://github.com/derhansen/sf_event_mgt
METHOD:PUBLISH
BEGIN:VEVENT
UID:331-5416@www.hs-emden-leer.de
CLASS: PUBLIC
SUMMARY:StudyGreenEnergy - Infos über Studiengänge für erneuerbare Energien
DESCRIPTION:Die Hochschule Emden/Leer beteiligt sich an einer bundesweiten 
 Informationsveranstaltung, die auf Studienmöglichkeiten im Bereich der erne
 uerbaren Energien aufmerksam machen möchte. Das gemeinsame Hochschulnetzwer
 k der „Deutschen Gesellschaft für Sonnenenergie“ bietet am 27. Januar unter
  dem Stichwort „StudyGreenEnergy“ bei einer digitalen Infoveranstaltung ein
 en umfangreichen Überblick.\n\n Jetzt das passende Studium finden und schon
  bald die Energiewende aktiv mitgestalten!
LOCATION:Online
DTSTAMP:20220114T094015Z
DTSTART:20220127T160000Z
DTEND:20220127T170000Z
END:VEVENT
END:VCALENDAR
