BEGIN:VCALENDAR
VERSION:2.0
PRODID:https://github.com/derhansen/sf_event_mgt
METHOD:PUBLISH
BEGIN:VEVENT
UID:414-5421@www.hs-emden-leer.de
CLASS: PUBLIC
SUMMARY:Studium und Familie in Balance
DESCRIPTION:Wie gelingt anderen Eltern momentan der Balanceakt zwischen Fam
 ilie und Studium? Und an welchen Stellschrauben kann ich drehen, um Stress 
 abzubauen? Der zweistündige Workshop bietet zu diesen Fragen hilf reiche Lö
 sungsansätze, Austausch und Methoden des Selbstmanagements.\n\n\n\nZur Pers
 on: Nils Seiler ist Vater und Dozent für Elternthemen aus Berlin.\n\n\n\nAn
 meldung und weitere Informationen:\n\nKyra Buschak\n\nProjektkoordination F
 amilienservice\n\n+49 4921 807-1144\n\nkyra.buschak@hs-emden-leer.de
LOCATION:Online
DTSTAMP:20220429T114014Z
DTSTART:20220524T070000Z
DTEND:20220524T090000Z
END:VEVENT
END:VCALENDAR
