BEGIN:VCALENDAR
VERSION:2.0
PRODID:https://github.com/derhansen/sf_event_mgt
METHOD:PUBLISH
BEGIN:VEVENT
UID:204-4745@www.hs-emden-leer.de
CLASS: PUBLIC
SUMMARY:Senatssitzung
DESCRIPTION:Meeting-Link:\n\nhttps://hs-emden-leer.webex.com/hs-emden-leer-
 de/j.php?MTID=m7c42585e617680ffd546b9a54e3e564f\n\nMeeting-Kennnummer:     
 163 812 0273\n\nPasswort:                              Me5qt2mugF5\n\nGastg
 eber-Kennnummer:  476531\n\n\n\n
DTSTAMP:20210429T071028Z
DTSTART:20210504T120000Z
DTEND:20210504T160000Z
END:VEVENT
END:VCALENDAR
