BEGIN:VCALENDAR
VERSION:2.0
PRODID:https://github.com/derhansen/sf_event_mgt
METHOD:PUBLISH
BEGIN:VEVENT
UID:679-5573@www.hs-emden-leer.de
CLASS: PUBLIC
SUMMARY:"Roter Fleck auf grüner Wiese"
DESCRIPTION:Referent*innen: Prof. Dr. Carsten Müller und Prof.in Dr. Sylke 
 Bartmann 27.09.2023\n\n18 - 20 Uhr\n\n Ort: Coram
DTSTAMP:20230920T122422Z
DTSTART:20230927T160000Z
DTEND:20230927T180000Z
END:VEVENT
END:VCALENDAR
