BEGIN:VCALENDAR
VERSION:2.0
PRODID:https://github.com/derhansen/sf_event_mgt
METHOD:PUBLISH
BEGIN:VEVENT
UID:193-5421@www.hs-emden-leer.de
CLASS: PUBLIC
SUMMARY:Rechtliche Perspektiven der Vereinbarkeit von Beruf und Familie
DESCRIPTION:In Zeiten von „shut-down“, Homeoffice und Homeschooling sind Ar
 beitnehmer*innen mehr denn je der Frage ausgesetzt, ob und inwieweit sich K
 inderbetreuung oder Angehörigenpflege noch mit der Erwerbstätigkeit vereinb
 aren lässt. Entsprechend müssen Gesetzgebung, Tarifvertragsparteien und Unt
 ernehmen nach Lösungen suchen und verlässliche rechtliche Instrumentarien s
 chaffen. Denn die Familie steht unter dem besonderen Schutz der staatlichen
  Ordnung (Art. 6 Abs. 1 GG). Der Vortrag will einen Überblick über bereits 
 bestehende rechtliche Grundlagen der Vereinbarkeitsproblematik geben und da
 bei insbesondere den Blick für die aktuelle Rechtsentwicklung schärfen.\n\n
 Zur Person: Stefan Treichel (Dr. jur.) ist seit 2016 Professor für Recht in
  Sozial- und Gesundheitsberufen an der Hochschule Emden/Leer. Er lehrt und 
 forscht u.a. zur rechtlichen Ausgestaltung familiärer Vereinbarkeitsfragen\
 n\n\n\n
LOCATION:Online
DTSTAMP:20210422T043708Z
DTSTART:20210510T070000Z
DTEND:20210510T080000Z
END:VEVENT
END:VCALENDAR
