BEGIN:VCALENDAR
VERSION:2.0
PRODID:https://github.com/derhansen/sf_event_mgt
METHOD:PUBLISH
BEGIN:VEVENT
UID:438-5429@www.hs-emden-leer.de
CLASS: PUBLIC
SUMMARY:Psychische Folgen von Corona beleuchtet
DESCRIPTION:Lindert lehrt und forscht seit vielen Jahren im Bereich Mental 
 Health und ist mit diesem Schwerpunkt auch als offizielle Beraterin der Wel
 tgesundheitsorganisation WHO tätig. An der der Hochschule betreut sie derze
 it mehrere Forschungsprojekte, die sich mit dem Thema Corona und der damit 
 verbundenen Auswirkung und Belastung für unterschiedliche gesellschaftliche
  Gruppen befassen.\n\n„Die COVID-19 Pandemie hat uns alle herausgefordert u
 nd fordert uns weiterhin“, so Lindert. Ziel dieses Vortrages sei es, einen 
 Überblick darüber zu geben was zu psychischen Folgen der Pandemie bisher in
 ternational und national bekannt ist.\n\nAnmeldungen zum Online-Vortrag wer
 den unter veranstaltung@hs-emden-leer.de entgegengenommen. Der Link zum vir
 tuellen Vortragsraum wird am Tag der Veranstaltung verschickt.
DTSTAMP:20220513T081305Z
DTSTART:20220516T150000Z
DTEND:20220516T170000Z
END:VEVENT
END:VCALENDAR
