BEGIN:VCALENDAR
VERSION:2.0
PRODID:https://github.com/derhansen/sf_event_mgt
METHOD:PUBLISH
BEGIN:VEVENT
UID:1029-9089@www.hs-emden-leer.de
CLASS: PUBLIC
SUMMARY:Promotionsschnack
DESCRIPTION:Das AnkerPROF-Team sowie das Team Wissens- und Technologietrans
 fer laden herzlich zum Promotionsschnack ein – einem Online-Austausch rund 
 um das Thema Promotion.\n\nDie Veranstaltung bietet einen lockeren und vert
 rauensvollen Rahmen, um sich über Bedenken, Herausforderungen und Erfolge i
 m Zusammenhang mit einer Promotion oder einem Promotionsvorhaben auszutausc
 hen.\n\nZudem gibt es Raum für Fragen zu Themen wie Finanzierung, ersten Sc
 hritten sowie passenden Beratungs- und Unterstützungsangeboten.\n\nEingelad
 en sind alle, die eine Promotion als möglichen nächsten Karriereschritt in 
 Betracht ziehen oder sich unverbindlich informieren möchten. Auch Promovier
 ende und bereits Promovierte sind herzlich willkommen, ihre Erfahrungen zu 
 teilen und Einblicke in verschiedene Phasen der eigenen Promotion zu geben.
 \n\nHier anmelden!
LOCATION:Online
DTSTAMP:20260410T111008Z
DTSTART:20260507T140000Z
DTEND:20260507T153000Z
END:VEVENT
END:VCALENDAR
