BEGIN:VCALENDAR
VERSION:2.0
PRODID:https://github.com/derhansen/sf_event_mgt
METHOD:PUBLISH
BEGIN:VEVENT
UID:617-5421@www.hs-emden-leer.de
CLASS: PUBLIC
SUMMARY:Promotion persönlich!
DESCRIPTION:Das moderierte Podiumsgespräch zu persönlichen Erfahrungen - di
 eses Mal speziell mit dem wissenschaftlichen Arbeiten während der Promotion
 szeit - findet am 11.05.2023 im Rahmen des Forschungsforums 2023 an der Hoc
 hschule statt. Auf dem Podium werden Professor*innen und Promovierende zu G
 ast sein. Gerahmt wird die Veranstaltung von wissenswerten Fakten rund um P
 romotion, Fördermöglichkeiten und Frauen in der Wissenschaft. Eingeladen si
 nd alle Personen, die promovieren (möchten), bereits promoviert haben und a
 lle, die sich generell für das Thema Promotion interessieren.\n\nWir bitten
  um Voranmeldung unter spitzenpersonal@hs-emden-leer.de\n\n\n\n
LOCATION:Campus Emden
DTSTAMP:20230504T040906Z
DTSTART:20230511T113000Z
DTEND:20230511T130000Z
END:VEVENT
END:VCALENDAR
