BEGIN:VCALENDAR
VERSION:2.0
PRODID:https://github.com/derhansen/sf_event_mgt
METHOD:PUBLISH
BEGIN:VEVENT
UID:732-5412@www.hs-emden-leer.de
CLASS: PUBLIC
SUMMARY:Praxismarkt Soziale Arbeit und Gesundheit
DESCRIPTION:Die Zusammenarbeit zwischen Praxis und Lehre hat in der Soziale
 n Arbeit und Gesundheit, insbesondere an unserer Hochschule eine lange Trad
 ition und einen hohen Stellenwert. Miteinander ins Gespräch zu kommen und z
 u bleiben war und ist Ziel unseres Praxismarktes, der sich seit 2009 bereit
 s großer Wertschätzung aller Beteiligter erfreut.\n\nIn diesem Jahr feiert 
 unsere Hochschule ihr 50jähriges Bestehen. Dies gilt auch für unseren Fachb
 ereich SAG, der mit dem Studiengang Soziale Arbeit von Beginn an, in guter 
 Zusammenarbeit mit der Praxis, aktiv ist.\n\nWir laden alle Studierenden de
 s Fachbereiches SAG und alle Praktiker*innen der Sozialen Arbeit und Gesund
 heit herzlich ein, am Donnerstag, 26. Oktober 2023, am Praxismarkt auf dem 
 Campus Emden, teilzunehmen und aktiv mitzuwirken.\n\n\n\n
LOCATION:Campus Emden
DTSTAMP:20231024T090221Z
DTSTART:20231026T070000Z
DTEND:20231026T143000Z
END:VEVENT
END:VCALENDAR
