BEGIN:VCALENDAR
VERSION:2.0
PRODID:https://github.com/derhansen/sf_event_mgt
METHOD:PUBLISH
BEGIN:VEVENT
UID:369-5421@www.hs-emden-leer.de
CLASS: PUBLIC
SUMMARY:Osterferienprogramm: Schrottorchester
DESCRIPTION:Hier wird es rhythmisch und auch mal laut! Wir trommeln und sch
 ütteln alles was Geräusche macht und proben tolle Rhythmen ein. Ob Alltagsg
 egenstände oder Müll, lasst euch überraschen wie Klangvielfältig unsere Umg
 ebung ist.\n\nTreffpunkt: Paapsand\n\n\n\nAnmeldung:\n\nMelde dich zur bess
 eren Planung bis zu 3 Tage vor der Veranstaltung beim Familienservice an.\n
 \nDie Altersangabe ist nur eine grobe Angabe, nach Absprache dürfen auch ge
 rne jüngere bzw. ältere Kinder (z.B. aufgrund kleiner Kita-Ferien) dabei se
 in. Alle Angebote sind kostenfrei und finden am Campus Emden statt.\n\nNoch
  Fragen? Oder gleich anmelden unter:\n\n04921 807-1144\n\nfamilienservice@h
 s-emden-leer.de
LOCATION:Campus Emden
DTSTAMP:20220310T110755Z
DTSTART:20220414T060000Z
DTEND:20220414T100000Z
END:VEVENT
END:VCALENDAR
