BEGIN:VCALENDAR
VERSION:2.0
PRODID:https://github.com/derhansen/sf_event_mgt
METHOD:PUBLISH
BEGIN:VEVENT
UID:366-5421@www.hs-emden-leer.de
CLASS: PUBLIC
SUMMARY:Osterferienprogramm: Abenteuer auf der Streuobstwiese
DESCRIPTION:Spiel, Spaß und Abenteuer erwarten euch auf der Streuobstwiese 
 Constantia. Bringt gerne eine Kleinigkeit zum Essen für ein Picknick mit. B
 ei schlechtem Wetter erwartet euch ein Spielevormittag im Paapsand.\n\nTref
 fpunkt: Paapsand\n\n\n\nAnmeldung:\n\nMelde dich zur besseren Planung bis z
 u 3 Tage vor der Veranstaltung beim Familienservice an.\n\nDie Altersangabe
  ist nur eine grobe Angabe, nach Absprache dürfen auch gerne jüngere bzw. ä
 ltere Kinder (z.B. aufgrund kleiner Kita-Ferien) dabei sein. Alle Angebote 
 sind kostenfrei und finden am Campus Emden statt.\n\nNoch Fragen? Oder glei
 ch anmelden unter:\n\n04921 807-1144\n\nfamilienservice@hs-emden-leer.de
LOCATION:Campus Emden
DTSTAMP:20220310T110559Z
DTSTART:20220411T060000Z
DTEND:20220411T100000Z
END:VEVENT
END:VCALENDAR
