BEGIN:VCALENDAR
VERSION:2.0
PRODID:https://github.com/derhansen/sf_event_mgt
METHOD:PUBLISH
BEGIN:VEVENT
UID:203-5411@www.hs-emden-leer.de
CLASS: PUBLIC
SUMMARY:Online studieren
DESCRIPTION:Am 9. Dezember um 20:00 Uhr veranstaltet das Online-Team der Ho
 chschule Emden/Leer für alle Studieninteressierten eine Videokonferenz zum 
 Thema „Online studieren an der Hochschule Emden/Leer“. In einer einstündige
 n Videokonferenz erhalten Sie einen Überblick über die Organisation und den
  Ablauf des Online-Studiums an unserer Hochschule. Im Anschluss haben Sie d
 ie Möglichkeit, Ihre Fragen direkt zu klären. Unter dem Link https://bbb.hs
 -emden-leer.de/b/lub-ill-a7a-ovu finden Sie den Zugang zum Videokonferenzra
 um.  Bei Frage melden Sie sich gerne per E-Mail an info@online.hs-emden-lee
 r.de oder telefonisch unter 04921/807-1941.
LOCATION:Online
DTSTAMP:20211111T102052Z
DTSTART:20211209T200000Z
DTEND:20211209T210000Z
END:VEVENT
END:VCALENDAR
