BEGIN:VCALENDAR
VERSION:2.0
PRODID:https://github.com/derhansen/sf_event_mgt
METHOD:PUBLISH
BEGIN:VEVENT
UID:312-5421@www.hs-emden-leer.de
CLASS: PUBLIC
SUMMARY:Online-Reihe: Das liebe Geld
DESCRIPTION:Gemeinsam blicken wir im Rahmen dieses Themenabends auf das ste
 reotypisches Verhalten beim Finanzmanagement in Paarbeziehungen und möglich
 e Auswirkungen auf die aktuelle sowie zurkünftige Finanzlagen. Auch spreche
 n wir darüber was Frau konkret tun kann, um sich bezüglich des Stemmens der
  gemeinsamen Finanzen in einer Partnerschaft zu behaupten und nachhaltig gu
 t aufzustellen.\n\n\n\nAnmeldungen bis 09.01.22 unter hannah.kabaj@hs-emden
 -leer.de\n\n\n\n
LOCATION:Online
DTSTAMP:20211018T112526Z
DTSTART:20220111T200000Z
DTEND:20220111T213000Z
END:VEVENT
END:VCALENDAR
