BEGIN:VCALENDAR
VERSION:2.0
PRODID:https://github.com/derhansen/sf_event_mgt
METHOD:PUBLISH
BEGIN:VEVENT
UID:181-5421@www.hs-emden-leer.de
CLASS: PUBLIC
SUMMARY:Online-Infoveranstaltung: Frauen in MINT! Mach mit beim Niedersachs
 en-Technikum!
DESCRIPTION:Für alle jungen Frauen, die aktuell ihr (Fach-)Abitur machen un
 d MINT-Studiengänge und -berufe spannend finden, bietet das Niedersachsen-T
 echnikum Orientierungshilfe.\n\nSechs Monate lang absolvieren die Teilnehme
 rinnen in einem Unternehmen ein bezahltes Praktikum und testen dabei, wo ih
 re MINT-Kompetenzen liegen. Parallel nehmen sie an einem „Schnupperstudium“
  an einer Hochschule teil. Das nächste Technikum startet am 1. September 20
 21 und noch gibt es freie Plätze.\n\nWenn Sie an der Veranstaltung teilnehm
 en möchten, melden Sie sich einfach per E-Mail bei christel.boven-stroman@h
 s-emden-leer.de an. Sie erhalten im Anschluss einen Link mit den Zugangsdat
 en. Alles was Sie benötigen ist ein Smartphone, ein Laptop oder ein Compute
 r. Eine Kamera ist nicht notwendig.
LOCATION:Online
DTSTAMP:20210416T080240Z
DTSTART:20210505T150000Z
DTEND:20210505T154500Z
END:VEVENT
END:VCALENDAR
