BEGIN:VCALENDAR
VERSION:2.0
PRODID:https://github.com/derhansen/sf_event_mgt
METHOD:PUBLISH
BEGIN:VEVENT
UID:183-5421@www.hs-emden-leer.de
CLASS: PUBLIC
SUMMARY:Online-Infoveranstaltung: Frauen in MINT! Mach mit beim Niedersachs
 en-Technikum!
DESCRIPTION:Für alle jungen Frauen, die aktuell ihr (Fach-)Abitur machen un
 d MINT-Studiengänge und -berufe spannend finden, bietet das Niedersachsen-T
 echnikum Orientierungshilfe.\n\nSechs Monate lang absolvieren die Teilnehme
 rinnen in einem Unternehmen ein bezahltes Praktikum und testen dabei, wo ih
 re MINT-Kompetenzen liegen. Parallel nehmen sie an einem „Schnupperstudium“
  an einer Hochschule teil. Das nächste Technikum startet am 1. September 20
 21 und noch gibt es freie Plätze.\n\nErfahre alles über Bewerbung und Ablau
 f und finde heraus, welche Möglichkeiten das Niedersachsen-Technikum in Emd
 en und Region bietet.\n\nMit dabei: das Praktikumsunternehmen Enercon und d
 ie ehe. Technikantin Fenna. Der Windenergiehersteller in Aurich und die Stu
 dentin der Elektrotechnik geben interessante Einblicke in das Technikum bei
  Enercon. Fenna berichtet zudem über ihre Ausbildung zur Elektronikerin für
  Betriebstechnik und ihr anschließendes Studium.\n\nAnmeldung per E-Mail: W
 enn Du an der Veranstaltung teilnehmen möchten, melde Dich sich einfach per
  E-Mail bei christel.boven-stroman@hs-emden-leer.de an. Du erhälst im Ansch
 luss einen Link mit den Zugangsdaten. Alles was Du benötigst, ist ein Smart
 phone, ein Laptop oder ein Computer. Eine Kamera ist nicht notwendig.\n\n\n
 \n\n\n
LOCATION:Online
DTSTAMP:20210623T065117Z
DTSTART:20210706T150000Z
DTEND:20210706T154500Z
END:VEVENT
END:VCALENDAR
