BEGIN:VCALENDAR
VERSION:2.0
PRODID:https://github.com/derhansen/sf_event_mgt
METHOD:PUBLISH
BEGIN:VEVENT
UID:182-5421@www.hs-emden-leer.de
CLASS: PUBLIC
SUMMARY:Online-Infoveranstaltung: Frauen in MINT! Mach mit beim Niedersachs
 en-Technikum!
DESCRIPTION:Beschreibung: Für alle jungen Frauen, die aktuell ihr (Fach-)Ab
 itur machen und MINT-Studiengänge und -berufe spannend finden, bietet das N
 iedersachsen-Technikum Orientierungshilfe.\n\nSechs Monate lang absolvieren
  die Teilnehmerinnen in einem Unternehmen ein bezahltes Praktikum und teste
 n dabei, wo ihre MINT-Kompetenzen liegen. Parallel nehmen sie an einem „Sch
 nupperstudium“ an einer Hochschule teil. Das nächste Technikum startet am 1
 . September 2021 und noch gibt es freie Plätze.\n\nAnmeldung per E-Mail: We
 nn Sie an der Veranstaltung teilnehmen möchten, melden Sie sich einfach per
  E-Mail bei christel.boven-stroman@hs-emden-leer.de an. Sie erhalten im Ans
 chluss einen Link mit den Zugangsdaten. Alles was Sie benötigen ist ein Sma
 rtphone, ein Laptop oder ein Computer. Eine Kamera ist nicht notwendig.
LOCATION:Online
DTSTAMP:20210512T093439Z
DTSTART:20210601T150000Z
DTEND:20210601T154500Z
END:VEVENT
END:VCALENDAR
