BEGIN:VCALENDAR
VERSION:2.0
PRODID:https://github.com/derhansen/sf_event_mgt
METHOD:PUBLISH
BEGIN:VEVENT
UID:335-5421@www.hs-emden-leer.de
CLASS: PUBLIC
SUMMARY:Online-Infoveranstaltung: Abitur - und jetzt? Mach mit beim Nieders
 achsen-Technikum!
DESCRIPTION: Beschreibung: Für alle jungen Frauen, die aktuell ihr (Fach-)A
 bitur machen und MINT-Studiengänge und -berufe spannend finden, bietet das 
 Niedersachsen-Technikum Orientierungshilfe.\n\nSechs Monate lang absolviere
 n die Teilnehmerinnen in einem Unternehmen ein bezahltes Praktikum und test
 en dabei, wo ihre MINT-Kompetenzen liegen. Parallel nehmen sie an einem „Sc
 hnupperstudium“ an einer Hochschule teil. Das nächste Technikum startet am 
 1. September 2022 und noch gibt es freie Plätze. Christel Boven-Stroman, Ko
 ordinatorin des Programms an der Hochschule Emden/Leer, und eine ehemalige 
 Technikantin stellen das Programm vor und berichten von ihren Erfahrungen.\
 n\nAnmeldung per E-Mail: Wenn Sie an der Veranstaltung teilnehmen möchten, 
 melden Sie sich einfach per E-Mail bei technikum@hs-emden-leer.de an. Sie e
 rhalten im Anschluss einen Link mit den Zugangsdaten.\n\nAlles was Sie benö
 tigen ist ein Smartphone, ein Laptop oder ein Computer. Eine Kamera ist nic
 ht notwendig.\n\n\n\n
LOCATION:Online
DTSTAMP:20220309T064917Z
DTSTART:20220511T143000Z
DTEND:20220511T151500Z
END:VEVENT
END:VCALENDAR
