BEGIN:VCALENDAR
VERSION:2.0
PRODID:https://github.com/derhansen/sf_event_mgt
METHOD:PUBLISH
BEGIN:VEVENT
UID:333-5421@www.hs-emden-leer.de
CLASS: PUBLIC
SUMMARY:Online-Infoveranstaltung: Abitur - und jetzt? Mach mit beim Nieders
 achsen-Technikum!
DESCRIPTION:Für alle jungen Frauen, die aktuell ihr (Fach-)Abitur machen un
 d MINT-Studiengänge und -berufe spannend finden, bietet das Niedersachsen-T
 echnikum Orientierungshilfe.\n\nSechs Monate lang absolvieren die Teilnehme
 rinnen in einem Unternehmen ein bezahltes Praktikum und testen dabei, wo ih
 re MINT-Kompetenzen liegen. Parallel nehmen sie an einem „Schnupperstudium“
  an einer Hochschule teil. Das nächste Technikum startet am 1. September 20
 22 und noch gibt es freie Plätze. Christel Boven-Stroman, Koordinatorin des
  Programms an der Hochschule Emden/Leer, und eine ehemalige Technikantin st
 ellen das Programm vor und berichten von ihren Erfahrungen.\n\nAnmeldung pe
 r E-Mail: Wenn Sie an der Veranstaltung teilnehmen möchten, melden Sie sich
  einfach per E-Mail bei technikum@hs-emden-leer.de an. Sie erhalten im Ansc
 hluss einen Link mit den Zugangsdaten.\n\nAlles was Sie benötigen ist ein S
 martphone, ein Laptop oder ein Computer. Eine Kamera ist nicht notwendig.\n
 \n\n\n
LOCATION:Online
DTSTAMP:20220127T132609Z
DTSTART:20220216T163000Z
DTEND:20220216T171500Z
END:VEVENT
END:VCALENDAR
