BEGIN:VCALENDAR
VERSION:2.0
PRODID:https://github.com/derhansen/sf_event_mgt
METHOD:PUBLISH
BEGIN:VEVENT
UID:275-5421@www.hs-emden-leer.de
CLASS: PUBLIC
SUMMARY:Niedersachsen-Technikum Start-Veranstaltung 2021/22
DESCRIPTION:Das Niedersachsen-Technikum bietet (Fach-)Abiturientinnen seit 
 2012 eine praxisnahe, nachhaltige und wirksame Berufsorientierung in MINT. 
 Wir laden Sie herzlich zur 10. Start-Veranstaltung des Niedersachsen-Techni
 kums ein, die in diesem Jahr digital stattfinden wird. Freuen Sie sich auf 
 ein spannendes Programm und starten Sie mit uns gemeinsam in das Niedersach
 sen-Technikum 2021/2022. Sie benötigen nichts weiter als einen Internetzuga
 ng. Kamera und Mikrofon sind nicht notwendig. Wir freuen uns auf Sie.
DTSTAMP:20210901T084148Z
DTSTART:20210903T080000Z
DTEND:20210903T093000Z
END:VEVENT
END:VCALENDAR
