BEGIN:VCALENDAR
VERSION:2.0
PRODID:https://github.com/derhansen/sf_event_mgt
METHOD:PUBLISH
BEGIN:VEVENT
UID:520-5417@www.hs-emden-leer.de
CLASS: PUBLIC
SUMMARY:Nachhaltiger Feierabend-Weihnachtsmarkt
DESCRIPTION:Dreimal im Jahr findet auf dem Campus der Hochschule in Emden e
 in nachhaltiger Feierabendmarkt statt. In entspannter Atmosphäre und nach F
 eierabend werden dort ökologische, regionale und faire Produkte von Anbiete
 rinnen und Anbietern aus Ostfriesland zum Kauf angeboten. Die Vorzüge der R
 egion in Sachen regionaler und nachhaltiger Landwirtschaft können so von un
 seren Studierenden und Mitarbeitenden sowie von BesucherInnen aus der Stadt
  direkt genutzt werden. Daneben präsentieren sich nachhaltige Hochschulproj
 ekte und zivilgesellschaftliche Initiativen.\n\nZur diesjährigen Weihnachts
 zeit freuen wir uns am Mittwoch, den 07. Dezember 2022, von 16-19 Uhr auf E
 uch! Ihr findet den Markt direkt auf dem Campus des Standorts Emden!
DTSTAMP:20221109T111205Z
DTSTART:20221207T150000Z
DTEND:20221207T180000Z
END:VEVENT
END:VCALENDAR
