BEGIN:VCALENDAR
VERSION:2.0
PRODID:https://github.com/derhansen/sf_event_mgt
METHOD:PUBLISH
BEGIN:VEVENT
UID:353-5414@www.hs-emden-leer.de
CLASS: PUBLIC
SUMMARY:MyCampus-Workshop: Selbstmotivation, Zielorientierung und Strategie
 n für ein erfolgreiches Studium [Präsenz]
DESCRIPTION:
DTSTAMP:20220224T142944Z
DTSTART:20220507T090000Z
DTEND:20220507T170000Z
END:VEVENT
END:VCALENDAR
