BEGIN:VCALENDAR
VERSION:2.0
PRODID:https://github.com/derhansen/sf_event_mgt
METHOD:PUBLISH
BEGIN:VEVENT
UID:416-5421@www.hs-emden-leer.de
CLASS: PUBLIC
SUMMARY:Mental Load
DESCRIPTION:Mental Load: Unsichtbarer Stress und die Folgen für Betroffene.
  Wie wir Fürsorge-Arbeit, Haushalt und Familienorganisation gerechter verte
 ilen können.\n\n\n\nZur Person: Laura Fröhlich ist Expertin für das Thema M
 ental Load und Buchautorin. Sie hat einen erfolgreichen Blog gegründet, der
  sich mit Mental Load und seinen Folgen auseinandersetzt und veröffentlicht
 e im Sommer 2020 einen Ratgeber mit dem Titel: „Die Frau fürs Leben ist nic
 ht das Mädchen für alles“. Sie hält Vorträge und berät Firmen, Vereine und 
 Privatpersonen und zeigt Strategien und Konzepte auf, um den Mental Load zu
  reduzieren. Die Autorin lebt mit ihrem Mann und ihren drei Kindern in der 
 Nähe von Stuttgart.\n\n\n\nAnmeldung und weitere Informationen:\n\nKyra Bus
 chak\n\nProjektkoordination Familienservice\n\n+49 4921 807-1144\n\nkyra.bu
 schak@hs-emden-leer.de
LOCATION:Online
DTSTAMP:20220429T113727Z
DTSTART:20220524T180000Z
DTEND:20220524T193000Z
END:VEVENT
END:VCALENDAR
