BEGIN:VCALENDAR
VERSION:2.0
PRODID:https://github.com/derhansen/sf_event_mgt
METHOD:PUBLISH
BEGIN:VEVENT
UID:191-5416@www.hs-emden-leer.de
CLASS: PUBLIC
SUMMARY:Labor-Talk: Die Fachabteilung Naturwissenschaftliche Technik stellt
  sich vor
DESCRIPTION:Die Zentrale Studienberatung und die Fachabteilung Naturwissens
 chaftliche Technik der Hochschule Emden/Leer möchten herzlich zu einem neue
 n, digitalen Veranstaltungsformat einladen:\n\n  „Labor-Talk: Die Fachabtei
 lung Naturwissenschaftliche Technik stellt sich vor – Komm näher, schnupper
 e Laborluft und wirf einen Blick auf unser praxisorientiertes Studienangebo
 t!“\n\nBei diesem Format widmen wir uns in vier Events den unterschiedliche
 n Studiengängen der Fachabteilung NWT, immer von 16:30-17-30 Uhr:\n\n 	04.0
 5. Biotechnologie / Bioinformatik (B.Sc.) 	06.05. Engineering Physics (B.En
 g) 	11.05. Chemietechnik / Umwelttechnik (B.Eng.) 	18.05. Sustainable Energ
 y Systems (B.Eng.) \n\nDiese vier Veranstaltungen finden in studiengangspez
 ifischen Laboren statt: Mitten im Labor steht das Talk-Sofa, auf dem die Re
 dner*innen Platz nehmen. Neben einem kurzen Einblick in das jeweilige Labor
  erfolgt die Vorstellung des Studiengangs und es werden häufige Fragen von 
 Studieninteressierten lebhaft in einer Interviewsituation zwischen Studienb
 erater*in und Studiengangvertreter*in beantwortet. Danach haben die Zuhörer
 *innen die Möglichkeit, ganz individuelle Fragen zu stellen.\n\n Gerne nehm
 en wir frühzeitige Anmeldungen per Mail  an kirsten.ackermann(at)hs-emden-l
 eer.de entgegen. Nach erfolgreicher Anmeldung erhalten Sie den Link zur Vid
 eokonferenz.
LOCATION:Online
DTSTAMP:20210511T140841Z
DTSTART:20210511T143000Z
DTEND:20210511T153000Z
END:VEVENT
END:VCALENDAR
