BEGIN:VCALENDAR
VERSION:2.0
PRODID:https://github.com/derhansen/sf_event_mgt
METHOD:PUBLISH
BEGIN:VEVENT
UID:370-6850@www.hs-emden-leer.de
CLASS: PUBLIC
SUMMARY:Konzentriert bleiben
DESCRIPTION:Lerne die drei Schritte, die dabei helfen können, persönliche A
 blenkungsfaktoren zu reduzieren und sowohl zu Hause als auch auf dem Campus
  mit mehr Fokus und Konzentration zu arbeiten. \n\n\n\nMelde dich über den 
 Moodlekursraum an. 
LOCATION:Campus Emden
DTSTAMP:20220316T102754Z
DTSTART:20220426T150000Z
DTEND:20220426T170000Z
END:VEVENT
END:VCALENDAR
