BEGIN:VCALENDAR
VERSION:2.0
PRODID:https://github.com/derhansen/sf_event_mgt
METHOD:PUBLISH
BEGIN:VEVENT
UID:113-5419@www.hs-emden-leer.de
CLASS: PUBLIC
SUMMARY:Karrieretalk-Online für NWT
DESCRIPTION:Der Karrieretalk des Career Service der HS Emden/Leer geht onli
 ne in die zweite Runde - dieses Mal für die Abteilung NWT. Gemeinsam mit de
 r EmsAchse werden wir interessante Unternehmen der Region aus der Kunststof
 f- Umwelt- und Lebensmittelbranche einladen.\n\nDie teilnehmenden Unternehm
 en sind: Molkerei Rücker aus Aurich (Lebensmittel), Sodasan aus Uplengen (ö
 kologische Wasch-und Reinigungsmittel), LUFA NordWest (Dienstleistungslabor
  der Landwirtschaftskammer Niedersachsen) sowie das niederländische Unterne
 hmen Senbis Polymer (Kunststoffe und Biopolymere).\n\nAnmeldung und Teilnah
 me unter folgendem Moodle Link: https://moodle.hs-emden-leer.de/moodle/cour
 se/view.php?id=6990\n\nStudierende der Abteilung Naturwissenschaftliche Tec
 hnik können ihr Wunschunternehmen persönlich kennenlernen, sich selbst präs
 entieren und spannende, vielleicht auch zukunftsentscheidende Gespräche füh
 ren.
LOCATION:Online
DTSTAMP:20210415T073219Z
DTSTART:20210427T120000Z
DTEND:20210427T150000Z
END:VEVENT
END:VCALENDAR
