BEGIN:VCALENDAR
VERSION:2.0
PRODID:https://github.com/derhansen/sf_event_mgt
METHOD:PUBLISH
BEGIN:VEVENT
UID:177-5411@www.hs-emden-leer.de
CLASS: PUBLIC
SUMMARY:Internationales Hyperloop Seminar (5)
DESCRIPTION:Am 12. April findet bereits zum zweiten Mal das Hyperloop onlin
 e Seminar „Vacuum Transportation Technology“ statt, als reguläres Kursange
 bot im Kooperationsstudiengang Engineering Physics der Hochschule Emden/Lee
 r und der Carl von Ossietzky Universität Oldenburg. Initiiert von der Eidg
 enössischen Technischen Hochschule Zürich sowie der Schweizer Stiftung Eu
 roTube kommt nun auch die Technischen Universität München mit ins Team. „
 Die Idee dieses gemeinsamen Seminars entstand im Rahmen der Antragstellung 
 für ein europäisches Förderprojekt, welches die Hochschule Emden/Leer ge
 meinsam mit den Schweizer Partnern angestoßen hatten“ erläutert Prof. Dr. 
 Walter Neu, Vorstandsmitglied im Institut für Hyperloop Technologie der Ho
 chschule Emden/Leer. „Zusammen mit EuroTube und dem studentischen Team Swis
 sloop der ETH arbeiten wir daran, das Forschungsthema Hyperloop mit in unse
 re Lehre einzubauen“, ergänzt Prof. Dr.-Ing. Thomas Schüning, ebenfalls V
 orstandsmitglied im Institut für Hyperloop Technologie.\n\nDas Seminar beg
 eisterte im letzten Wintersemester 20/21 mehr als 50 Bachelor- und Masterst
 udierende aus Emden und Oldenburg. Studierende stellten dabei aktuelle Erge
 bnisse aus Abschlussarbeiten und Forschungsprojekten vor. So präsentierten
  Engineering Physics Absolventen dabei u.a. Schwebetechnologien für ein Hy
 perloop-System, einem der Anwendungsschwerpunkte der Hochschule Emden/Leer 
 zur Magnetschwebetechnologie. „Das Seminar ist ein hervorragendes Beispiel 
 für projektorientierte Lehre. Hier zeigt sich, wie gut man Theorie, anwend
 ungsorientierte Forschung und Lehre miteinander verbinden kann“, so Prof. D
 r. Gerhard Kreutz, Präsident der Hochschule Emden/Leer.\n\nDarüber hinaus
  werden Expertenvorträge aus der Industrie und Forschung mit eingebunden, 
 mit regen Diskussionsbeiträgen der Studierenden. „Diese Möglichkeit der d
 etaillierten technischen Diskussionen mit den Vortragenden verknüpft die L
 ehre mit einem handfesten Praxisbezug, finden die Professoren Neu und Schü
 ning. Die Themen reichen von der Fluiddynamik über akustische Lecksuche, d
 er Risikoanalyse des Hyperloop, Lehren aus der Entwicklung des Transrapid, 
 bis hin zum Design eines Hyperloop-Bahnhofs.\n\nDer Vizepräsident für For
 schung, Transfer und Digitalisierung der Carl von Ossietzky Universität Ol
 denburg, Prof. Dr. Martin Fränzle, stellte in seinem Grußwort zur Konferen
 zserie European Hyperloop Technolgy fest: „Das Jahr 2013, in dem Elon Musk 
 in seinem White Paper die Idee des Hyperloop vorstellte, gilt vielen als di
 e Geburtsstunde der Hyperlooptechnologie. Analog dazu dürfen wir, die Uni 
 Oldenburg und die Hochschule Emden/Leer, für uns in Anspruch nehmen, mit d
 er Begründung des Studiengangs Engineering Physics im Studienjahr 1998/99 
 gemeinsam die Keimzelle für Hyperloop hier im Nordwesten Deutschlands gesc
 haffen zu haben!“
LOCATION:Online
DTSTAMP:20210408T143002Z
DTSTART:20210510T160000Z
DTEND:20210510T170000Z
END:VEVENT
END:VCALENDAR
