BEGIN:VCALENDAR
VERSION:2.0
PRODID:https://github.com/derhansen/sf_event_mgt
METHOD:PUBLISH
BEGIN:VEVENT
UID:528-5421@www.hs-emden-leer.de
CLASS: PUBLIC
SUMMARY:Internationaler Tag gegen Gewalt an Frauen
DESCRIPTION:Am 25. November schließen wir uns der Stadt Emden an und gehen 
 gemeinsam mit dem Oberbürgermeister Herrn Kruithoff und der Gleichstellungs
 beauftragten der Stadt Gaby Philipps vom Frickensteinplatz zum Rathaus/Land
 esmuseum.\n\nTreffpunkt: 11:45 Uhr am Frickensteinplatz 2 (Innenhof, Verwal
 tungsgebäude I) in Emden.\n\nAlle Hochschulmitglieder sind eingeladen, mit 
 uns ein Zeichen gegen Gewalt zu setzen.
DTSTAMP:20221117T095116Z
DTSTART:20221125T104500Z
DTEND:20221125T113000Z
END:VEVENT
END:VCALENDAR
