BEGIN:VCALENDAR
VERSION:2.0
PRODID:https://github.com/derhansen/sf_event_mgt
METHOD:PUBLISH
BEGIN:VEVENT
UID:186-5417@www.hs-emden-leer.de
CLASS: PUBLIC
SUMMARY:Interdisziplinäres Nachhaltigkeitszertifikat: "Unverpackt in Ostfri
 esland", mit "Perpetuum Mobility" & "Jute Seele Emden"
DESCRIPTION:Unverpackt in Ostfriesland, Kooperation mit dem Verein "Perpetu
 um Mobility" und "Jute Seele Emden".\n\nDer BBB Link befindet sich im Moodl
 e Kurs "Nachhaltigkeitszertifikat".\n\nInteressierte außerhalb der Studiere
 ndenschaft können unter folgendem Kontakt nähere Informationen erhalten: an
 na.gerritzen(at)hs-emden-leer.de
DTSTAMP:20210420T181552Z
DTSTART:20210429T150000Z
DTEND:20210429T160000Z
END:VEVENT
END:VCALENDAR
