BEGIN:VCALENDAR
VERSION:2.0
PRODID:https://github.com/derhansen/sf_event_mgt
METHOD:PUBLISH
BEGIN:VEVENT
UID:356-5417@www.hs-emden-leer.de
CLASS: PUBLIC
SUMMARY:Interdisziplinäres Nachhaltigkeitszertifikat: "Nachhaltigkeit lerne
 n - einführende Perspektiven auf die Gestaltung von Bildung für nachhaltige
  Entwicklung", Dr. Mandy Singer-Brodowski
DESCRIPTION:Bildung hat seit Beginn der Nachhaltigkeitsdebatte eine entsche
 idende Rolle inne. In demokratischen Gesellschaften sind es Bildungs- und L
 ernprozesse, die Menschen dazu befähigen die notwendigen sozial-ökologische
 n Transformationsprozesse mitzugestalten. In dem Vortrag wird eine Einführu
 ng in die Nachhaltigkeitsdebatte und in Bildung für nachhaltige Entwicklung
  gegeben sowie eigene Handlungspotentiale ausgelotet.\n\nVortragende: Dr. M
 andy Singer-Brodowski, Institut Futur der FU Berlin, Mitglied im Fachforum 
 Hochschule des UNESCO-Weltaktionsprogramms BNE\n\nDer BBB Link  : https://b
 bb.hs-emden-leer.de/b/ger-cho-bw1-b0d\n\nInteressierte außerhalb der Studie
 rendenschaft können unter folgendem Kontakt nähere Informationen erhalten: 
 anna.gerritzen(at)hs-emden-leer.de 
LOCATION:Online
DTSTAMP:20220322T174936Z
DTSTART:20220331T150000Z
DTEND:20220331T170000Z
END:VEVENT
END:VCALENDAR
