BEGIN:VCALENDAR
VERSION:2.0
PRODID:https://github.com/derhansen/sf_event_mgt
METHOD:PUBLISH
BEGIN:VEVENT
UID:345-5417@www.hs-emden-leer.de
CLASS: PUBLIC
SUMMARY:Interdisziplinäres Nachhaltigkeitszertifikat: "Energierevolution JE
 TZT! Warum für das Stoppen der Klimakrise keine einfache Energiewende ausre
 icht", Prof. Dr. Volker Quaschning
DESCRIPTION:Vortrag über Erneuerbare Energien und Klimaschutz von Prof. Dr.
  Volker Quaschning, Professor für Regenerative Energiesysteme an der HWT Be
 rlin & Mit-Gründer Scientists4Future\n\nDer BBB Link  : https://bbb.hs-emde
 n-leer.de/b/ger-d1i-oae-iz7\n\nInteressierte außerhalb der Studierendenscha
 ft können unter folgendem Kontakt nähere Informationen erhalten: anna.gerri
 tzen(at)hs-emden-leer.de 
LOCATION:Online
DTSTAMP:20220322T174847Z
DTSTART:20220324T160000Z
DTEND:20220324T180000Z
END:VEVENT
END:VCALENDAR
