BEGIN:VCALENDAR
VERSION:2.0
PRODID:https://github.com/derhansen/sf_event_mgt
METHOD:PUBLISH
BEGIN:VEVENT
UID:357-5417@www.hs-emden-leer.de
CLASS: PUBLIC
SUMMARY:Interdisziplinäres Nachhaltigkeitszertifikat: Einführungsworkshop K
 omponente 1, Prof. Dr. Eric Mührel
DESCRIPTION:Einführungsworkshop Komponente 1 in Präsenz mit Prof. Dr. Eric 
 Mührel von der HS Koblenz.\n\nVerbindliche Anmeldung bei anna.gerritzen(at)
 hs-emden-leer.de \n\nInteressierte außerhalb der Studierendenschaft können 
 unter folgendem Kontakt nähere Informationen erhalten: anna.gerritzen(at)hs
 -emden-leer.de 
DTSTAMP:20220228T125603Z
DTSTART:20220528T100000Z
DTEND:20220528T130000Z
END:VEVENT
END:VCALENDAR
