BEGIN:VCALENDAR
VERSION:2.0
PRODID:https://github.com/derhansen/sf_event_mgt
METHOD:PUBLISH
BEGIN:VEVENT
UID:346-5417@www.hs-emden-leer.de
CLASS: PUBLIC
SUMMARY:Interdisziplinäres Nachhaltigkeitszertifikat: "Einblicke in die Pos
 twachstumsökonomik", Prof. Dr. Niko Paech
DESCRIPTION:Der Klimawandel, das Artensterben, die Verknappung jener Ressou
 rcen, auf deren kostengünstiger Verfügbarkeit das industrielle Wohlstandsmo
 dell bislang basierte, Befunde der Glücksforschung, aber ganz besonders auc
 h die Corona-Pandemie zeigen, dass sich die Wachstumsparty ihrem Ende zunei
 gt. Folglich sind die Möglichkeiten einer Postwachstumsökonomie auszuloten.
  Demnach ist ein prägnanter Rückbau geldbasierter Versorgungssysteme vonnöt
 en. Suffizienz, moderne Subsistenz und kürzere Versorgungsketten werden dan
 n wichtige Gestaltungsoptionen sein. Zudem ist die Postwachstumsökonomie du
 rch Sesshaftigkeit gekennzeichnet, also durch Glück ohne Kerosin.\n\nVortra
 gender: Prof. Dr. Niko Paech, Professor für Plurale Ökonomik an der Univesi
 tät Siegen\n\nDer BBB Link  :  https://bbb.hs-emden-leer.de/b/ger-aog-uyp-c
 ut\n\nInteressierte außerhalb der Studierendenschaft können unter folgendem
  Kontakt nähere Informationen erhalten: anna.gerritzen(at)hs-emden-leer.de 
LOCATION:Online
DTSTAMP:20220322T175105Z
DTSTART:20220428T150000Z
DTEND:20220428T170000Z
END:VEVENT
END:VCALENDAR
