BEGIN:VCALENDAR
VERSION:2.0
PRODID:https://github.com/derhansen/sf_event_mgt
METHOD:PUBLISH
BEGIN:VEVENT
UID:188-5417@www.hs-emden-leer.de
CLASS: PUBLIC
SUMMARY:Interdisziplinäres Nachhaltigkeitszertifikat: "Anders Wirtschaften:
  Proengeno aus Jemgum"
DESCRIPTION:"Anders Wirtschaften: Proengeno aus Jemgum"\n\nDer BBB Link bef
 indet sich im Moodle Kurs "Nachhaltigkeitszertifikat".\n\nInteressierte auß
 erhalb der Studierendenschaft können unter folgendem Kontakt nähere Informa
 tionen erhalten: anna.gerritzen(at)hs-emden-leer.de
DTSTAMP:20210420T180530Z
DTSTART:20210610T150000Z
DTEND:20210610T170000Z
END:VEVENT
END:VCALENDAR
