BEGIN:VCALENDAR
VERSION:2.0
PRODID:https://github.com/derhansen/sf_event_mgt
METHOD:PUBLISH
BEGIN:VEVENT
UID:451-6974@www.hs-emden-leer.de
CLASS: PUBLIC
SUMMARY:InnosysCongress 2022 - Online-"Aktionswoche"
DESCRIPTION:Der 2. InnosysCongress steht an - diesmal im Rahmen einer "Onli
 ne-Aktionswoche" vom 21. - 28. November\n\nWir waren in diesem Jahr viel un
 terwegs, um das Projekt  InnosysNordWest sowie damit verbundene interssante
  und innovative Themen für kleine und mittlere Unternehmen im Nordwesten Ni
 edersachsens bekannter zu machen. Ostfriesland, Oldenburg und Wilhelmshaven
  waren da nur drei unserer zahlreichen Stationen, an denen wir uns nach lan
 ger, pandemiebedingter Pause endlich einmal wieder mit Interessierten und P
 rojektpartner*innen zu den Oberthemen INNOVATION & DIGITALISIERUNG austausc
 hen konnten.\n\nZum Abschluss der diesjährigen "InnosysCongress-Reise" möch
 ten wir all die Themen, die wir dabei gesammelt haben, im Rahmen einer Onli
 ne-Aktionswoche noch einmal für Sie aufbereiten und ihnen gleichzeitig auch
  noch einmal die Möglichkeit zu einem weiteren Austausch bieten. Los geht e
 s am Montag, 21. November. Wir würden uns also freuen, wenn Sie sich diesen
  Termin bereits rot im Kalender eintragen!\n\nWir arbeiten bereits eifrig a
 n einem für Sie attraktiven Programm und werden die Inhalte sowie die unter
 schiedlichen Möglichkeiten zur Teilnahme hier alsbald veröffentlichen.\n\nB
 leiben Sie gespannt!
LOCATION:Online
DTSTAMP:20220714T153238Z
DTSTART:20221121T140000Z
DTEND:20221127T170000Z
END:VEVENT
END:VCALENDAR
