BEGIN:VCALENDAR
VERSION:2.0
PRODID:https://github.com/derhansen/sf_event_mgt
METHOD:PUBLISH
BEGIN:VEVENT
UID:517-142@www.hs-emden-leer.de
CLASS: PUBLIC
SUMMARY:Infoveranstaltung Interreg B
DESCRIPTION:INTERREG B ist ein themengebundenes, ausschreibungsorientiertes
  Programm für die Zusammenarbeit in definierten Regionen. Für uns ist hier 
 die Förderregion Nordseeraum von besonderer Bedeutung, weshalb wir uns sehr
  freuen Frau Rix von der Nationalen Kontaktstelle INTERREG Nordseeraum für 
 diesen Vortrag gewonnen zu haben. Gemeinsam mit Frau Jacuniak, der Regional
 vertreterin des INTERREG-Nordseeprogramms für unsere Region, stellt Sie am 
 07. November 2022 die thematischen Schwerpunkte, Förderbedingungen und aktu
 elle Themen des Interreg Nordseeprogramms vor. Die Veranstaltung gibt einen
  schnellen Überblick zu den theoretischen Grundlagen, den praxisrelevanten 
 Themen und den Partizipationsmöglichkeiten, die im weiteren Austausch disku
 tiert werden können.\n\nWann: Montag, 07. November, 15.00 – 17.30 Uhr Was: 
 Infoveranstaltung Interreg B Wo: Hochschule Emden, Raum S213 Referentinnen:
  Marta Jacuniak-Suda, Annika Rix\n\nZwecks besserer Planung wird um eine An
 meldung per Mail gebeten an: juliane.mueller@hs-emden-leer.de
DTSTAMP:20221104T095130Z
DTSTART:20221107T140000Z
DTEND:20221107T163000Z
END:VEVENT
END:VCALENDAR
