BEGIN:VCALENDAR
VERSION:2.0
PRODID:https://github.com/derhansen/sf_event_mgt
METHOD:PUBLISH
BEGIN:VEVENT
UID:534-5567@www.hs-emden-leer.de
CLASS: PUBLIC
SUMMARY:Informationsveranstaltungen über das neue HELP-Portal (Hochschule E
 mden/Leer Prozessportal) (ca. 30 Min.)
DESCRIPTION:Zum 18.01.2022 wird das Prozessportal (HELPP) auf eine neue Ver
 sion umgestellt.\n\nMit der Umstellung stehen auch neue Funktionen zur Verf
 ügung, welche wir Ihnen in der Informationsveranstaltung vorstellen möchten
 .\n\nAus diesem Anlass und weil seit der letzten Informationsveranstaltung 
 zahlreiche neue Lehrende und Kolleginnen und Kollegen an die Hochschule gek
 ommen sind, möchten wir Ihnen das Prozessportal und seine Funktionen noch e
 inmal vorstellen und z.B. folgende Fragen beantworten:\n\n 	Wie finde ich P
 rozess xy am schnellsten? 	An welchen Prozessen bin ich als Funktionsträger
 *in xy beteiligt? 	Welche Möglichkeiten habe ich, das Dokument xy aufzurufe
 n? 	Welche Möglichkeiten habe ich, das Dokument xy aufzurufen? \n\nZu folge
 nden Terminalternativen möchten wir Sie einladen:\n\nDie Informationsverans
 taltung findet online via Zoom statt:\n\nhttps://hs-emden-leer-de.zoom.us/j
 /96003455887?pwd=aGhuR2d4WG04dWNSL0kza1lDS1dqdz09\n\n 	Donnerstag, 19.01.20
 23, 09:30 – 10:00 Uhr 	Mittwoch, 25.01.2023, 13:30 – 14:00 Uhr \n\nAuf Ihre
  Teilnahme freut sich\n\nAndre Schneke\n\nKoordinator Prozessmanagement
DTSTAMP:20230112T095536Z
DTSTART:20230125T123000Z
DTEND:20230125T130000Z
END:VEVENT
END:VCALENDAR
