BEGIN:VCALENDAR
VERSION:2.0
PRODID:https://github.com/derhansen/sf_event_mgt
METHOD:PUBLISH
BEGIN:VEVENT
UID:315-5567@www.hs-emden-leer.de
CLASS: PUBLIC
SUMMARY:Informationsveranstaltung über HELPP (Hochschule Emden/Leer Prozess
 portal))
DESCRIPTION:Ende 2017 ist das Prozessportal HELPP für Sie online gegangen. 
 Seitdem wurde und wird HELPP kontinuierlich ausgebaut, so dass von Ihnen im
 mer mehr Prozessbeschreibungen und Dokumente über HELPP aufgerufen werden k
 önnen.\n\nAus diesem Anlass und weil seit der letzten Informationsveranstal
 tung zahlreiche neue Lehrende und Kolleginnen und Kollegen an die Hochschul
 e gekommen sind, möchten wir Ihnen das Prozessportal und seine Funktionen n
 och einmal vorstellen und z.B. folgende Fragen beantworten:\n\n•    Wie fin
 de ich Prozess xy am schnellsten? •    An welchen Prozessen bin ich als Fun
 ktionsträger*in xy beteiligt? •    Welche Möglichkeiten habe ich, das Dokum
 ent xy aufzurufen?\n\nZu folgenden Terminalternativen möchten wir Sie einla
 den:\n\nDie Informationsveranstaltung findet online via BigBlueButton statt
 :\n\nhttps://bbb.hs-emden-leer.de/b/an1-m2p-gct-mda\n\n 	Mittwoch, 03.11.20
 21, 10:30 – 11:00 Uhr 	Mittwoch, 10.11.2021, 13:20 – 13:50 Uhr \n\nAuf Ihre
  Teilnahme freut sich\n\nAndre Schneke\n\nKoordinator Prozessmanagement
DTSTAMP:20211025T062610Z
DTSTART:20211103T103000Z
DTEND:20211103T110000Z
END:VEVENT
END:VCALENDAR
