BEGIN:VCALENDAR
VERSION:2.0
PRODID:https://github.com/derhansen/sf_event_mgt
METHOD:PUBLISH
BEGIN:VEVENT
UID:295-5416@www.hs-emden-leer.de
CLASS: PUBLIC
SUMMARY:Info-Veranstaltung zu Stipendien
DESCRIPTION:Dich erwarten verschiedene Vorträge zu:\n\n 	Stipendien für ein
  Auslandssemester (durch das International Office) 	Stipendien für ein Stud
 ium in Deutschland, z.B. das Deutschlandstipendium oder das fem:talent-Stip
 endium (u.a. durch das Präsidialbüro und Arbeiterkind) 	Erfahrungsberichte 
 von Stipendiat*innen \n\nIm Anschluss gibt es reichlich Zeit, um deine pers
 önlichen Fragen zu klären!\n\nBitte melde dich hier an: https://civi.arbeit
 erkind.de/_Stipendieninfoveranstaltung_Hochschule_Emden_Leer 
LOCATION:Online
DTSTAMP:20211004T104633Z
DTSTART:20211012T153000Z
DTEND:20211012T170000Z
END:VEVENT
END:VCALENDAR
